BEGIN:VCALENDAR
VERSION:2.0
PRODID:-//wp-events-plugin.com//7.2.3.1//EN
TZID:America/Chicago
X-WR-TIMEZONE:America/Chicago
BEGIN:VEVENT
UID:1@gracechurchgalveston.org
DTSTART;TZID=America/Chicago:20201224T170000
DTEND;TZID=America/Chicago:20201224T180000
DTSTAMP:20201213T223857Z
URL:https://gracechurchgalveston.org/events/christmas-eve-service/
SUMMARY:Christmas Eve Service - 5PM
DESCRIPTION:
LOCATION:Grace Episcopal Church\, 1115 36th Street\, Galveston\, TX\, 77550
 \, United States
X-APPLE-STRUCTURED-LOCATION;VALUE=URI;X-ADDRESS=1115 36th Street\, Galvesto
 n\, TX\, 77550\, United States;X-APPLE-RADIUS=100;X-TITLE=Grace Episcopal 
 Church:geo:0,0
END:VEVENT
BEGIN:VEVENT
UID:2@gracechurchgalveston.org
DTSTART;TZID=America/Chicago:20201224T190000
DTEND;TZID=America/Chicago:20201224T200000
DTSTAMP:20201222T234426Z
URL:https://gracechurchgalveston.org/events/christmas-eve-service-7pm/
SUMMARY:Christmas Eve Service - 7PM
DESCRIPTION:
ATTACH;FMTTYPE=image/jpeg:https://i0.wp.com/gracechurchgalveston.org/wp-co
 ntent/uploads/2018/12/cropped-2018christmas-1-1.jpg?fit=940%2C266&ssl=1
LOCATION:Grace Epicopal Church\, 1115 36th St.\, Galveston\, TX\, 77550\, U
 nited States
X-APPLE-STRUCTURED-LOCATION;VALUE=URI;X-ADDRESS=1115 36th St.\, Galveston\,
  TX\, 77550\, United States;X-APPLE-RADIUS=100;X-TITLE=Grace Epicopal Chur
 ch:geo:0,0
END:VEVENT
BEGIN:VTIMEZONE
TZID:America/Chicago
X-LIC-LOCATION:America/Chicago
BEGIN:STANDARD
DTSTART:20201101T010000
TZOFFSETFROM:-0500
TZOFFSETTO:-0600
TZNAME:CST
END:STANDARD
END:VTIMEZONE
END:VCALENDAR